Workbook

Sheet 事業主あて
H1: 事務連絡
H2: 44245
A3: 事業主 様
A4: 健保事務担当者 様
H5: 亀田総合病院健康保険組合
H6: （公印省略）
A8: 個人番号が変更された際の届出規定の創設について
A11: 時下ますますご清栄のこととお慶び申し上げます。
A12: 平素は当健康保険組合の事業運営に格別のご協力を賜り、厚く御礼申し上げます。
A13: さて、このたび、健康保険法施行規則等の一部を改正する省令（保発0129第13号）が令和
A14: 3年1月29日付けにて公布されました。
A15: つきましては、個人番号が変更された際の手続きについて、下記のとおり通知いたします
A16: ので、被保険者の皆様方にご周知方よろしくお願いいたします。
A18: 記
A20: ・被保険者は、その個人番号を変更したときは、速やかに、変更後の個人番号及び変更
A21: の年月日を事業主に申し出なければならない。
A23: ・事業主は、個人番号の変更に係る被保険者の申出を受けたときは、遅滞なく、別添様
A24: 式（個人番号変更届）を健康保険組合あて提出しなければならない。

Sheet 届書様式
B2: 個人番号変更届 | T2: 常務理事
AQ4: 04 ( 7092 ) 2211
B5: 令和 | D5: 年 | F5: 月 | H5: 日提出 | AQ5: 04 ( 7092 ) 0900
A6: 提出者記入欄 | B6: 健康保険 事業所記号 | G6: =IF(D6&E6="11",1,IF(D6&F6&F6="100",0,"")) | V6: 受付日付印 | AQ6: 04 ( 7098 ) 4700
B7: 事業所 所在地 | C7: 〒 | D7: =IFERROR(VLOOKUP(VALUE(D6&E6&F6&G6),事業所一覧!A3:H13,2),"") | AQ7: 04 ( 7098 ) 3710
D8: =IFERROR(VLOOKUP(VALUE(D6&E6&F6&G6),事業所一覧!A3:H13,4),"") | AQ8: 043 ( 225 ) 3811
D9: =IFERROR(VLOOKUP(VALUE(D6&E6&F6&G6),事業所一覧!A3:H13,5),"") | AQ9: 03 ( 3709 ) 2992
B10: 事業所 名 称 | D10: =IFERROR(VLOOKUP(VALUE(D6&E6&F6&G6),事業所一覧!A3:H13,6),"") | AQ10: 04 ( 7099 ) 1182
AQ11: 04 ( 7099 ) 1456
B12: 事業主 氏 名 | D12: =IFERROR(VLOOKUP(VALUE(D6&E6&F6&G6),事業所一覧!A3:H13,7),"") | AQ12: 04 ( 7096 ) 6870
B14: 電話番号 | D14: =IFERROR(VLOOKUP(VALUE(D6&E6&F6&G6),事業所一覧!A3:H13,8),"")
A17: 届出１ | B17: 被保険者 証の番号 | F17: 氏 名 | H17: ﾌﾘｶﾞﾅ | T17: 生年 月日 | V17: =IF(AE17=TRUE,"⑤.昭和","5.昭和") -> 5.昭和 | Y17: 年 | AA17: 月 | AC17: 日 | AE17: FALSE | AK17: 本人
H18: 氏 | N18: 名 | V18: =IF(AE18=TRUE,"⑦.平成","7.平成") -> 7.平成 | AE18: FALSE | AK18: 妻
V19: =IF(AE19=TRUE,"⑨.令和","9.令和") -> 9.令和 | AE19: FALSE | AK19: 夫
B20: 個人番号 | C20: 変更後 | Y20: 続 柄 | AK20: 長男
AK21: 長女
AK22: 二男
C23: 変更前 | Y23: 性 別 | AA23: =IF(AE23=TRUE,"①.男","1.男") -> 1.男 | AE23: FALSE | AK23: 二女
AA24: =IF(AE24=TRUE,"②.女","2.女") -> 2.女 | AE24: FALSE | AK24: 三男
B25: 住所 | C25: 〒 | F25: - | AK25: 三女
B26: (住民票) | AK26: 四男
B27: 変更理由 | T27: 変更 年月日 | V27: 9.令和 | Y27: 年 | AA27: 月 | AC27: 日 | AK27: 四女
AK28: 父
AK29: 母
A30: 届出２ | B30: 被保険者 証の番号 | F30: 氏 名 | H30: ﾌﾘｶﾞﾅ | T30: 生年 月日 | V30: =IF(AE30=TRUE,"⑤.昭和","5.昭和") -> 5.昭和 | Y30: 年 | AA30: 月 | AC30: 日 | AE30: FALSE | AK30: 義父
H31: 氏 | N31: 名 | V31: =IF(AE31=TRUE,"⑦.平成","7.平成") -> 7.平成 | AE31: FALSE | AK31: 義母
V32: =IF(AE32=TRUE,"⑨.令和","9.令和") -> 9.令和 | AE32: FALSE | AK32: 兄
B33: 個人番号 | C33: 変更後 | Y33: 続 柄 | AK33: 姉
AK34: 弟
AK35: 妹
C36: 変更前 | Y36: 性 別 | AA36: =IF(AE36=TRUE,"①.男","1.男") -> 1.男 | AE36: FALSE
AA37: =IF(AE37=TRUE,"②.女","2.女") -> 2.女 | AE37: FALSE
B38: 住所 | C38: 〒 | F38: -
B39: (住民票)
B40: 変更理由 | T40: 変更 年月日 | V40: 9.令和 | Y40: 年 | AA40: 月 | AC40: 日
A43: 届出３ | B43: 被保険者 証の番号 | F43: 氏 名 | H43: ﾌﾘｶﾞﾅ | T43: 生年 月日 | V43: =IF(AE43=TRUE,"⑤.昭和","5.昭和") -> 5.昭和 | Y43: 年 | AA43: 月 | AC43: 日 | AE43: FALSE
H44: 氏 | N44: 名 | V44: =IF(AE44=TRUE,"⑦.平成","7.平成") -> 7.平成 | AE44: FALSE
V45: =IF(AE45=TRUE,"⑨.令和","9.令和") -> 9.令和 | AE45: FALSE
B46: 個人番号 | C46: 変更後 | Y46: 続 柄
C49: 変更前 | Y49: 性 別 | AA49: =IF(AE49=TRUE,"①.男","1.男") -> 1.男 | AE49: FALSE
AA50: =IF(AE50=TRUE,"②.女","2.女") -> 2.女 | AE50: FALSE
B51: 住所 | C51: 〒 | F51: -
B52: (住民票)
B53: 変更理由 | T53: 変更 年月日 | V53: 9.令和 | Y53: 年 | AA53: 月 | AC53: 日

Sheet 事業所一覧
A1: 1 | B1: 2 | C1: 3 | D1: 4 | E1: 5 | F1: 6 | G1: 7 | H1: 8
A2: 事業所記号 | B2: 〒１健保 | C2: 〒２健保 | D2: 住所１健保 | E2: 住所２ | F2: 事業所名 | G2: 代表 | H2: 電話健保
A3: 101 | B3: 296-8602 | C3: 8602 | D3: 千葉県鴨川市東町９２９ | F3: 医療法人鉄蕉会 亀田総合病院 | G3: 理 事 長 亀 田 隆 明 | H3: 04(7092)2211
A4: 201 | B4: 296-0041 | C4: 0041 | D4: 千葉県鴨川市東町５７０ | F4: 株式会社ケイテイエス | G4: 代表取締役 山﨑 孝幸 | H4: 04(7092)0900
A5: 301 | B5: 296-0041 | C5: 0041 | D5: 千葉県鴨川市東町１３７４ | F5: 亀田産業株式会社 | G5: 代表取締役社長 亀田 亜里 | H5: 04(7092)0800
A6: 401 | B6: 296-0124 | C6: 0124 | D6: 千葉県鴨川市大幡１２２２－１ | F6: 社会福祉法人 太陽会 | G6: 理 事 長 亀 田 信 介 | H6: 04(7098)1000
A7: 501 | B7: 260-0014 | C7: 0014 | D7: 千葉県千葉市中央区本千葉町３－１ | E7: 明治安田生命千葉ビル７階 | F7: 亀田総合病院健康保険組合 | G7: 理 事 長 亀 田 秀 次 | H7: 043(225)3811
A8: 601 | B8: 158-0097 | C8: 0097 | D8: 東京都世田谷区用賀２－３２－１８ | E8: グレース用賀３０１ | F8: 株式会社メディヴァ | G8: 代表取締役 大石 佳能子 | H8: 03(3709)2992
A9: 701 | B9: 296-0041 | C9: 0041 | D9: 千葉県鴨川市東町６５５－１ | F9: 株式会社ケイエムシー | G9: 代表取締役 髙梨 賢 | H9: 04(7099)1182
A10: 801 | B10: 296-0041 | C10: 0041 | D10: 千葉県鴨川市東町１３４４ | F10: オルカ鴨川ＦＣ株式会社 | G10: 代表取締役 亀田 翆香 | H10: 04(7099)1456
A11: 901 | B11: 296-0041 | C11: 0041 | D11: 千葉県鴨川市東町１３７４－１ | F11: 亀楽株式会社 | G11: 代表取締役社長 真田 正博 | H11: 04(7096)6870
A12: 1000 | F12: 任意継続被保険者
A13: 1101 | B13: 261-8501 | C13: 8501 | D13: 千葉県千葉市美浜区中瀬一丁目３番地 | E13: Ｄ棟３階 | F13: 医療法人社団 亀田会 | G13: 理事長 川井 清考 | H13: 043(296)8141
